BEGIN:VCALENDAR
VERSION:2.0
PRODID:-//Tech North Atlanta - ECPv5.14.0.4//NONSGML v1.0//EN
CALSCALE:GREGORIAN
METHOD:PUBLISH
X-WR-CALNAME:Tech North Atlanta
X-ORIGINAL-URL:https://technorthatlanta.org
X-WR-CALDESC:Events for Tech North Atlanta
BEGIN:VTIMEZONE
TZID:America/New_York
BEGIN:DAYLIGHT
TZOFFSETFROM:-0500
TZOFFSETTO:-0400
TZNAME:EDT
DTSTART:20180311T070000
END:DAYLIGHT
BEGIN:STANDARD
TZOFFSETFROM:-0400
TZOFFSETTO:-0500
TZNAME:EST
DTSTART:20181104T060000
END:STANDARD
END:VTIMEZONE
BEGIN:VEVENT
DTSTART;TZID=America/New_York:20180620T080000
DTEND;TZID=America/New_York:20180620T090000
DTSTAMP:20260424T152739
CREATED:20180611T185258Z
LAST-MODIFIED:20180611T185258Z
UID:3750-1529481600-1529485200@technorthatlanta.org
SUMMARY:Lunch N Learn with ATL Ventures
DESCRIPTION:AT Gimbel\, co-founder of ATL Ventures\, will be hosting a lunch n learn at Tech Alpharetta for our members. \nCome share your ideas\, learn their investment thesis and how this VC works. \nFree for Tech Alpharetta Members.
URL:https://technorthatlanta.org/event/lunch-n-learn-with-atl-ventures/
LOCATION:Tech Alpharetta Pitch Room\, 2972 Webb Bridge Road\, Alpharetta\, GA\, 30009\, United States
END:VEVENT
END:VCALENDAR