BEGIN:VCALENDAR
VERSION:2.0
PRODID:-//Tech North Atlanta - ECPv5.14.0.4//NONSGML v1.0//EN
CALSCALE:GREGORIAN
METHOD:PUBLISH
X-WR-CALNAME:Tech North Atlanta
X-ORIGINAL-URL:https://technorthatlanta.org
X-WR-CALDESC:Events for Tech North Atlanta
BEGIN:VTIMEZONE
TZID:America/New_York
BEGIN:DAYLIGHT
TZOFFSETFROM:-0500
TZOFFSETTO:-0400
TZNAME:EDT
DTSTART:20200308T070000
END:DAYLIGHT
BEGIN:STANDARD
TZOFFSETFROM:-0400
TZOFFSETTO:-0500
TZNAME:EST
DTSTART:20201101T060000
END:STANDARD
END:VTIMEZONE
BEGIN:VEVENT
DTSTART;TZID=America/New_York:20200311T093000
DTEND;TZID=America/New_York:20200311T103000
DTSTAMP:20260422T094223
CREATED:20200103T172136Z
LAST-MODIFIED:20200224T223847Z
UID:7932-1583919000-1583922600@technorthatlanta.org
SUMMARY:Startup Insights: Keeping the Books to Keep Out of Trouble
DESCRIPTION:Topic: Keeping the Books to Keep Out of Trouble \nEven entrepreneurs with Business Degrees\, spending time on bookkeeping and other accounting activities seems to them to be a waste of their precious time.  Entrepreneurs without formal training are likely to be even more frustrated with the “time wasted” on financial details.  However\, sooner or later\, the need for accurate accounting and financial management becomes apparent – even if the business is closing down!  Understanding what financial details are important at what point in time needs to be part of every entrepreneur’s regular activities. \nThe Startup Insights Forum\, sponsored by and held at the Tech Alpharetta Innovation Center\, is an interactive startup roundtable discussion on a selected topic. The sessions are led by our industry experts\, with active group participation. \nFree and open to member and non member startups. \nLocation is Tech Alpharetta Innovation Center Pitch Room.
URL:https://technorthatlanta.org/event/startup-insightsprofitable-revenue-on-going-operations-and-new-challenges/
LOCATION:Tech Alpharetta Pitch Room\, 2972 Webb Bridge Road\, Alpharetta\, GA\, 30009\, United States
END:VEVENT
END:VCALENDAR