BEGIN:VCALENDAR
VERSION:2.0
PRODID:-//Tech North Atlanta - ECPv5.14.0.4//NONSGML v1.0//EN
CALSCALE:GREGORIAN
METHOD:PUBLISH
X-WR-CALNAME:Tech North Atlanta
X-ORIGINAL-URL:https://technorthatlanta.org
X-WR-CALDESC:Events for Tech North Atlanta
BEGIN:VTIMEZONE
TZID:America/New_York
BEGIN:DAYLIGHT
TZOFFSETFROM:-0500
TZOFFSETTO:-0400
TZNAME:EDT
DTSTART:20220313T070000
END:DAYLIGHT
BEGIN:STANDARD
TZOFFSETFROM:-0400
TZOFFSETTO:-0500
TZNAME:EST
DTSTART:20221106T060000
END:STANDARD
END:VTIMEZONE
BEGIN:VEVENT
DTSTART;TZID=America/New_York:20220818T173000
DTEND;TZID=America/New_York:20220818T200000
DTSTAMP:20260423T083659
CREATED:20220619T181416Z
LAST-MODIFIED:20220805T142214Z
UID:11411-1660843800-1660852800@technorthatlanta.org
SUMMARY:Tech Alpharetta’s North Side Bash
DESCRIPTION:Tech Alpharetta’s Innovation Center – 2972 Webb Bridge Road – Alpharetta\, GA 30009 \nRegister HERE: \nhttps://www.eventbrite.com/e/youre-invited-to-tech-alpharettas-north-side-bash-tickets-375484663737 \n \n \n 
URL:https://technorthatlanta.org/event/tech-alpharettas-north-side-bash/
END:VEVENT
END:VCALENDAR