BEGIN:VCALENDAR
VERSION:2.0
PRODID:-//Tech North Atlanta - ECPv5.14.0.4//NONSGML v1.0//EN
CALSCALE:GREGORIAN
METHOD:PUBLISH
X-WR-CALNAME:Tech North Atlanta
X-ORIGINAL-URL:https://technorthatlanta.org
X-WR-CALDESC:Events for Tech North Atlanta
BEGIN:VTIMEZONE
TZID:America/New_York
BEGIN:DAYLIGHT
TZOFFSETFROM:-0500
TZOFFSETTO:-0400
TZNAME:EDT
DTSTART:20180311T070000
END:DAYLIGHT
BEGIN:STANDARD
TZOFFSETFROM:-0400
TZOFFSETTO:-0500
TZNAME:EST
DTSTART:20181104T060000
END:STANDARD
END:VTIMEZONE
BEGIN:VEVENT
DTSTART;TZID=America/New_York:20180516T053000
DTEND;TZID=America/New_York:20180516T063000
DTSTAMP:20260424T173921
CREATED:20180222T233914Z
LAST-MODIFIED:20180521T173659Z
UID:3473-1526448600-1526452200@technorthatlanta.org
SUMMARY:Tom's Startup Insights
DESCRIPTION:Topic: Execution: The Difference Between Success and Failure\nOnce a product or service has been validated\, success is dependent on Incremental Focus and Execution and determining what should be done not what could be done.\n\nStartup Insights is a series of 30-minute\, interactive presentations on various aspects that most entrepreneurs and private business owners face. \nThe sessions will be held on the first and third Wednesdays of every month from 9:30AM to 10:00AM at the Tech Alpharetta Innovation Center after the One Million Cups meetings. \nA wide range of valuable topics will be covered in short\, digestable sessions that are easy to incorporate into your startup.
URL:https://technorthatlanta.org/event/toms-startup-insights-4-2018-05-16/
LOCATION:ATDC Startup Circle\, 2972 Webb Bridge Road\, Alpharetta\, GA\, 30009\, United States
END:VEVENT
END:VCALENDAR